Package: tRNAdbImport Version: 1.20.1 Command: /Library/Frameworks/R.framework/Resources/bin/R CMD build --keep-empty-dirs --no-resave-data tRNAdbImport StartedAt: 2024-04-17 04:22:42 -0400 (Wed, 17 Apr 2024) EndedAt: 2024-04-17 04:23:18 -0400 (Wed, 17 Apr 2024) EllapsedTime: 36.5 seconds RetCode: 0 Status: OK PackageFile: tRNAdbImport_1.20.1.tar.gz PackageFileSize: 321.9 KiB