Package: tRNA Version: 1.20.1 Command: rm -rf tRNA.buildbin-libdir && mkdir tRNA.buildbin-libdir && /Users/biocbuild/BBS/utils/build-universal.sh tRNA_1.20.1.tar.gz /Library/Frameworks/R.framework/Resources/bin/R tRNA.buildbin-libdir StartedAt: 2024-04-15 10:51:20 -0400 (Mon, 15 Apr 2024) EndedAt: 2024-04-15 10:51:46 -0400 (Mon, 15 Apr 2024) EllapsedTime: 26.0 seconds RetCode: 0 Status: OK PackageFile: tRNA_1.20.1.tgz PackageFileSize: 1.476 MiB