Package: tLOH Version: 1.10.0 Command: /Library/Frameworks/R.framework/Resources/bin/R CMD check --install=check:tLOH.install-out.txt --library=/Library/Frameworks/R.framework/Resources/library --no-vignettes --timings tLOH_1.10.0.tar.gz StartedAt: 2024-04-18 06:24:28 -0400 (Thu, 18 Apr 2024) EndedAt: 2024-04-18 06:34:48 -0400 (Thu, 18 Apr 2024) EllapsedTime: 619.9 seconds RetCode: 0 Status: OK CheckDir: tLOH.Rcheck Warnings: 0