Package: systemPipeTools Version: 1.10.0 Command: rm -rf systemPipeTools.buildbin-libdir && mkdir systemPipeTools.buildbin-libdir && /Users/biocbuild/BBS/utils/build-universal.sh systemPipeTools_1.10.0.tar.gz /Library/Frameworks/R.framework/Resources/bin/R systemPipeTools.buildbin-libdir StartedAt: 2024-04-15 10:43:51 -0400 (Mon, 15 Apr 2024) EndedAt: 2024-04-15 10:44:31 -0400 (Mon, 15 Apr 2024) EllapsedTime: 40.3 seconds RetCode: 0 Status: OK PackageFile: systemPipeTools_1.10.0.tgz PackageFileSize: 1.03 MiB