Package: synlet Version: 2.2.0 Command: /Library/Frameworks/R.framework/Resources/bin/R CMD build --keep-empty-dirs --no-resave-data synlet StartedAt: 2024-04-17 03:50:39 -0400 (Wed, 17 Apr 2024) EndedAt: 2024-04-17 03:51:08 -0400 (Wed, 17 Apr 2024) EllapsedTime: 28.5 seconds RetCode: 0 Status: OK PackageFile: synlet_2.2.0.tar.gz PackageFileSize: 1.384 MiB