Package: synlet Version: 2.2.0 Command: rm -rf synlet.buildbin-libdir && mkdir synlet.buildbin-libdir && /Users/biocbuild/BBS/utils/build-universal.sh synlet_2.2.0.tar.gz /Library/Frameworks/R.framework/Resources/bin/R synlet.buildbin-libdir StartedAt: 2024-04-15 10:43:39 -0400 (Mon, 15 Apr 2024) EndedAt: 2024-04-15 10:43:48 -0400 (Mon, 15 Apr 2024) EllapsedTime: 8.9 seconds RetCode: 0 Status: OK PackageFile: synlet_2.2.0.tgz PackageFileSize: 1.431 MiB