Package: synergyfinder Version: 3.10.3 Command: /Library/Frameworks/R.framework/Resources/bin/R CMD check --install=check:synergyfinder.install-out.txt --library=/Library/Frameworks/R.framework/Resources/library --no-vignettes --timings synergyfinder_3.10.3.tar.gz StartedAt: 2024-04-18 05:52:51 -0400 (Thu, 18 Apr 2024) EndedAt: 2024-04-18 05:54:41 -0400 (Thu, 18 Apr 2024) EllapsedTime: 109.7 seconds RetCode: 0 Status: WARNINGS CheckDir: synergyfinder.Rcheck Warnings: 1