Package: switchBox Version: 1.38.0 Command: rm -rf switchBox.buildbin-libdir && mkdir switchBox.buildbin-libdir && /Users/biocbuild/BBS/utils/build-universal.sh switchBox_1.38.0.tar.gz /Library/Frameworks/R.framework/Resources/bin/R switchBox.buildbin-libdir StartedAt: 2024-04-15 10:43:08 -0400 (Mon, 15 Apr 2024) EndedAt: 2024-04-15 10:43:19 -0400 (Mon, 15 Apr 2024) EllapsedTime: 10.4 seconds RetCode: 0 Status: OK PackageFile: switchBox_1.38.0.tgz PackageFileSize: 636.8 KiB