Package: svaRetro Version: 1.8.0 Command: rm -rf svaRetro.buildbin-libdir && mkdir svaRetro.buildbin-libdir && /Users/biocbuild/BBS/utils/build-universal.sh svaRetro_1.8.0.tar.gz /Library/Frameworks/R.framework/Resources/bin/R svaRetro.buildbin-libdir StartedAt: 2024-04-15 10:42:44 -0400 (Mon, 15 Apr 2024) EndedAt: 2024-04-15 10:43:48 -0400 (Mon, 15 Apr 2024) EllapsedTime: 64.2 seconds RetCode: 0 Status: OK PackageFile: svaRetro_1.8.0.tgz PackageFileSize: 1.529 MiB