Package: sva Version: 3.50.0 Command: /Library/Frameworks/R.framework/Resources/bin/R CMD INSTALL sva StartedAt: 2024-04-16 11:58:52 -0400 (Tue, 16 Apr 2024) EndedAt: 2024-04-16 11:59:18 -0400 (Tue, 16 Apr 2024) EllapsedTime: 26.2 seconds RetCode: 0 Status: OK