Package: sva Version: 3.50.0 Command: /Library/Frameworks/R.framework/Resources/bin/R CMD check --install=check:sva.install-out.txt --library=/Library/Frameworks/R.framework/Resources/library --no-vignettes --timings sva_3.50.0.tar.gz StartedAt: 2024-04-18 05:45:17 -0400 (Thu, 18 Apr 2024) EndedAt: 2024-04-18 05:51:01 -0400 (Thu, 18 Apr 2024) EllapsedTime: 344.3 seconds RetCode: 0 Status: OK CheckDir: sva.Rcheck Warnings: 0