Package: stepNorm Version: 1.74.0 Command: /Library/Frameworks/R.framework/Resources/bin/R CMD check --install=check:stepNorm.install-out.txt --library=/Library/Frameworks/R.framework/Resources/library --no-vignettes --timings stepNorm_1.74.0.tar.gz StartedAt: 2024-04-18 05:31:14 -0400 (Thu, 18 Apr 2024) EndedAt: 2024-04-18 05:34:21 -0400 (Thu, 18 Apr 2024) EllapsedTime: 186.1 seconds RetCode: 0 Status: OK CheckDir: stepNorm.Rcheck Warnings: 0