Package: ssviz Version: 1.36.0 Command: /Library/Frameworks/R.framework/Resources/bin/R CMD INSTALL ssviz StartedAt: 2024-04-16 10:56:14 -0400 (Tue, 16 Apr 2024) EndedAt: 2024-04-16 10:56:33 -0400 (Tue, 16 Apr 2024) EllapsedTime: 19.2 seconds RetCode: 0 Status: OK