Package: sscu Version: 2.32.0 Command: /Library/Frameworks/R.framework/Resources/bin/R CMD check --install=check:sscu.install-out.txt --library=/Library/Frameworks/R.framework/Resources/library --no-vignettes --timings sscu_2.32.0.tar.gz StartedAt: 2024-04-18 05:20:00 -0400 (Thu, 18 Apr 2024) EndedAt: 2024-04-18 05:21:53 -0400 (Thu, 18 Apr 2024) EllapsedTime: 113.0 seconds RetCode: 0 Status: WARNINGS CheckDir: sscu.Rcheck Warnings: 1