Package: ssPATHS Version: 1.16.0 Command: /Library/Frameworks/R.framework/Resources/bin/R CMD check --install=check:ssPATHS.install-out.txt --library=/Library/Frameworks/R.framework/Resources/library --no-vignettes --timings ssPATHS_1.16.0.tar.gz StartedAt: 2024-04-18 05:22:06 -0400 (Thu, 18 Apr 2024) EndedAt: 2024-04-18 05:25:48 -0400 (Thu, 18 Apr 2024) EllapsedTime: 221.8 seconds RetCode: 0 Status: OK CheckDir: ssPATHS.Rcheck Warnings: 0