Package: ssPATHS Version: 1.16.0 Command: /Library/Frameworks/R.framework/Resources/bin/R CMD build --keep-empty-dirs --no-resave-data ssPATHS StartedAt: 2024-04-17 03:33:02 -0400 (Wed, 17 Apr 2024) EndedAt: 2024-04-17 03:33:50 -0400 (Wed, 17 Apr 2024) EllapsedTime: 47.3 seconds RetCode: 0 Status: OK PackageFile: ssPATHS_1.16.0.tar.gz PackageFileSize: 3.672 MiB