Package: splots Version: 1.68.0 Command: rm -rf splots.buildbin-libdir && mkdir splots.buildbin-libdir && /Users/biocbuild/BBS/utils/build-universal.sh splots_1.68.0.tar.gz /Library/Frameworks/R.framework/Resources/bin/R splots.buildbin-libdir StartedAt: 2024-04-18 11:26:08 -0400 (Thu, 18 Apr 2024) EndedAt: 2024-04-18 11:26:13 -0400 (Thu, 18 Apr 2024) EllapsedTime: 4.6 seconds RetCode: 0 Status: OK PackageFile: splots_1.68.0.tgz PackageFileSize: 723.8 KiB