Package: spkTools Version: 1.58.0 Command: /Library/Frameworks/R.framework/Resources/bin/R CMD INSTALL spkTools StartedAt: 2024-04-16 10:05:20 -0400 (Tue, 16 Apr 2024) EndedAt: 2024-04-16 10:05:26 -0400 (Tue, 16 Apr 2024) EllapsedTime: 5.9 seconds RetCode: 0 Status: OK