Package: spiky Version: 1.8.0 Command: /Library/Frameworks/R.framework/Resources/bin/R CMD INSTALL spiky StartedAt: 2024-04-16 12:00:26 -0400 (Tue, 16 Apr 2024) EndedAt: 2024-04-16 12:01:18 -0400 (Tue, 16 Apr 2024) EllapsedTime: 52.2 seconds RetCode: 0 Status: OK