Package: spiky Version: 1.8.0 Command: rm -rf spiky.buildbin-libdir && mkdir spiky.buildbin-libdir && /Users/biocbuild/BBS/utils/build-universal.sh spiky_1.8.0.tar.gz /Library/Frameworks/R.framework/Resources/bin/R spiky.buildbin-libdir StartedAt: 2024-04-18 11:25:20 -0400 (Thu, 18 Apr 2024) EndedAt: 2024-04-18 11:26:27 -0400 (Thu, 18 Apr 2024) EllapsedTime: 66.7 seconds RetCode: 0 Status: OK PackageFile: spiky_1.8.0.tgz PackageFileSize: 15.35 MiB