Package: speckle Version: 1.2.0 Command: /Library/Frameworks/R.framework/Resources/bin/R CMD check --install=check:speckle.install-out.txt --library=/Library/Frameworks/R.framework/Resources/library --no-vignettes --timings speckle_1.2.0.tar.gz StartedAt: 2024-04-18 04:50:51 -0400 (Thu, 18 Apr 2024) EndedAt: 2024-04-18 04:55:57 -0400 (Thu, 18 Apr 2024) EllapsedTime: 306.1 seconds RetCode: 0 Status: OK CheckDir: speckle.Rcheck Warnings: 0