Package: specL Version: 1.36.0 Command: /Library/Frameworks/R.framework/Resources/bin/R CMD check --install=check:specL.install-out.txt --library=/Library/Frameworks/R.framework/Resources/library --no-vignettes --timings specL_1.36.0.tar.gz StartedAt: 2024-04-18 04:55:57 -0400 (Thu, 18 Apr 2024) EndedAt: 2024-04-18 04:56:55 -0400 (Thu, 18 Apr 2024) EllapsedTime: 58.1 seconds RetCode: 0 Status: OK CheckDir: specL.Rcheck Warnings: 0