Package: sparsenetgls Version: 1.20.0 Command: /Library/Frameworks/R.framework/Resources/bin/R CMD INSTALL sparsenetgls StartedAt: 2024-04-16 11:55:49 -0400 (Tue, 16 Apr 2024) EndedAt: 2024-04-16 11:55:58 -0400 (Tue, 16 Apr 2024) EllapsedTime: 8.4 seconds RetCode: 0 Status: OK