Package: snpStats Version: 1.52.0 Command: /Library/Frameworks/R.framework/Resources/bin/R CMD INSTALL snpStats StartedAt: 2024-04-16 12:14:45 -0400 (Tue, 16 Apr 2024) EndedAt: 2024-04-16 12:15:06 -0400 (Tue, 16 Apr 2024) EllapsedTime: 21.5 seconds RetCode: 0 Status: OK