Package: snpStats Version: 1.52.0 Command: /Library/Frameworks/R.framework/Resources/bin/R CMD check --install=check:snpStats.install-out.txt --library=/Library/Frameworks/R.framework/Resources/library --no-vignettes --timings snpStats_1.52.0.tar.gz StartedAt: 2024-04-18 04:30:19 -0400 (Thu, 18 Apr 2024) EndedAt: 2024-04-18 04:31:39 -0400 (Thu, 18 Apr 2024) EllapsedTime: 80.5 seconds RetCode: 0 Status: WARNINGS CheckDir: snpStats.Rcheck Warnings: 2