Package: snpStats Version: 1.52.0 Command: /Library/Frameworks/R.framework/Resources/bin/R CMD build --keep-empty-dirs --no-resave-data snpStats StartedAt: 2024-04-17 03:03:53 -0400 (Wed, 17 Apr 2024) EndedAt: 2024-04-17 03:05:34 -0400 (Wed, 17 Apr 2024) EllapsedTime: 100.8 seconds RetCode: 0 Status: OK PackageFile: snpStats_1.52.0.tar.gz PackageFileSize: 7.728 MiB