Package: snpStats Version: 1.52.0 Command: rm -rf snpStats.buildbin-libdir && mkdir snpStats.buildbin-libdir && /Users/biocbuild/BBS/utils/build-universal.sh snpStats_1.52.0.tar.gz /Library/Frameworks/R.framework/Resources/bin/R snpStats.buildbin-libdir StartedAt: 2024-04-18 11:22:21 -0400 (Thu, 18 Apr 2024) EndedAt: 2024-04-18 11:22:50 -0400 (Thu, 18 Apr 2024) EllapsedTime: 29.5 seconds RetCode: 0 Status: OK PackageFile: snpStats_1.52.0.tgz PackageFileSize: 8.504 MiB