Package: snm Version: 1.50.0 Command: /Library/Frameworks/R.framework/Resources/bin/R CMD build --keep-empty-dirs --no-resave-data snm StartedAt: 2024-04-17 03:02:47 -0400 (Wed, 17 Apr 2024) EndedAt: 2024-04-17 03:05:54 -0400 (Wed, 17 Apr 2024) EllapsedTime: 186.9 seconds RetCode: 0 Status: OK PackageFile: snm_1.50.0.tar.gz PackageFileSize: 727.7 KiB