Package: snm Version: 1.50.0 Command: rm -rf snm.buildbin-libdir && mkdir snm.buildbin-libdir && /Users/biocbuild/BBS/utils/build-universal.sh snm_1.50.0.tar.gz /Library/Frameworks/R.framework/Resources/bin/R snm.buildbin-libdir StartedAt: 2024-04-18 11:22:06 -0400 (Thu, 18 Apr 2024) EndedAt: 2024-04-18 11:22:17 -0400 (Thu, 18 Apr 2024) EllapsedTime: 11.4 seconds RetCode: 0 Status: OK PackageFile: snm_1.50.0.tgz PackageFileSize: 615.3 KiB