Package: snapcount Version: 1.14.0 Command: /Library/Frameworks/R.framework/Resources/bin/R CMD check --install=check:snapcount.install-out.txt --library=/Library/Frameworks/R.framework/Resources/library --no-vignettes --timings snapcount_1.14.0.tar.gz StartedAt: 2024-04-18 04:27:31 -0400 (Thu, 18 Apr 2024) EndedAt: 2024-04-18 04:33:36 -0400 (Thu, 18 Apr 2024) EllapsedTime: 365.7 seconds RetCode: 0 Status: OK CheckDir: snapcount.Rcheck Warnings: 0