Package: snapCGH Version: 1.72.0 Command: rm -rf snapCGH.buildbin-libdir && mkdir snapCGH.buildbin-libdir && /Users/biocbuild/BBS/utils/build-universal.sh snapCGH_1.72.0.tar.gz /Library/Frameworks/R.framework/Resources/bin/R snapCGH.buildbin-libdir StartedAt: 2024-04-18 11:21:59 -0400 (Thu, 18 Apr 2024) EndedAt: 2024-04-18 11:22:40 -0400 (Thu, 18 Apr 2024) EllapsedTime: 41.0 seconds RetCode: 0 Status: OK PackageFile: snapCGH_1.72.0.tgz PackageFileSize: 1.368 MiB