Package: sitadela Version: 1.10.0 Command: /Library/Frameworks/R.framework/Resources/bin/R CMD check --install=check:sitadela.install-out.txt --library=/Library/Frameworks/R.framework/Resources/library --no-vignettes --timings sitadela_1.10.0.tar.gz StartedAt: 2024-04-18 04:20:44 -0400 (Thu, 18 Apr 2024) EndedAt: 2024-04-18 04:27:31 -0400 (Thu, 18 Apr 2024) EllapsedTime: 406.3 seconds RetCode: 0 Status: OK CheckDir: sitadela.Rcheck Warnings: 0