Package: simplifyEnrichment Version: 1.12.0 Command: /Library/Frameworks/R.framework/Resources/bin/R CMD INSTALL simplifyEnrichment StartedAt: 2024-04-16 11:45:37 -0400 (Tue, 16 Apr 2024) EndedAt: 2024-04-16 11:46:06 -0400 (Tue, 16 Apr 2024) EllapsedTime: 28.8 seconds RetCode: 0 Status: OK