Package: simplifyEnrichment Version: 1.12.0 Command: /Library/Frameworks/R.framework/Resources/bin/R CMD build --keep-empty-dirs --no-resave-data simplifyEnrichment StartedAt: 2024-04-17 02:50:56 -0400 (Wed, 17 Apr 2024) EndedAt: 2024-04-17 03:07:50 -0400 (Wed, 17 Apr 2024) EllapsedTime: 1013.9 seconds RetCode: 0 Status: OK PackageFile: simplifyEnrichment_1.12.0.tar.gz PackageFileSize: 7.235 MiB