Package: simplifyEnrichment Version: 1.12.0 Command: rm -rf simplifyEnrichment.buildbin-libdir && mkdir simplifyEnrichment.buildbin-libdir && /Users/biocbuild/BBS/utils/build-universal.sh simplifyEnrichment_1.12.0.tar.gz /Library/Frameworks/R.framework/Resources/bin/R simplifyEnrichment.buildbin-libdir StartedAt: 2024-04-18 11:19:15 -0400 (Thu, 18 Apr 2024) EndedAt: 2024-04-18 11:19:52 -0400 (Thu, 18 Apr 2024) EllapsedTime: 37.4 seconds RetCode: 0 Status: OK PackageFile: simplifyEnrichment_1.12.0.tgz PackageFileSize: 7.77 MiB