Package: signeR Version: 2.4.0 Command: /Library/Frameworks/R.framework/Resources/bin/R CMD INSTALL signeR StartedAt: 2024-04-16 12:50:15 -0400 (Tue, 16 Apr 2024) EndedAt: 2024-04-16 12:51:52 -0400 (Tue, 16 Apr 2024) EllapsedTime: 96.7 seconds RetCode: 0 Status: OK