Package: signeR Version: 2.4.0 Command: /Library/Frameworks/R.framework/Resources/bin/R CMD build --keep-empty-dirs --no-resave-data signeR StartedAt: 2024-04-17 02:44:55 -0400 (Wed, 17 Apr 2024) EndedAt: 2024-04-17 02:49:04 -0400 (Wed, 17 Apr 2024) EllapsedTime: 248.4 seconds RetCode: 0 Status: OK PackageFile: signeR_2.4.0.tar.gz PackageFileSize: 2.015 MiB