Package: siggenes Version: 1.76.0 Command: /Library/Frameworks/R.framework/Resources/bin/R CMD check --install=check:siggenes.install-out.txt --library=/Library/Frameworks/R.framework/Resources/library --no-vignettes --timings siggenes_1.76.0.tar.gz StartedAt: 2024-04-18 03:56:21 -0400 (Thu, 18 Apr 2024) EndedAt: 2024-04-18 03:57:50 -0400 (Thu, 18 Apr 2024) EllapsedTime: 88.9 seconds RetCode: 0 Status: OK CheckDir: siggenes.Rcheck Warnings: 0