Package: seqCNA Version: 1.48.0 Command: /Library/Frameworks/R.framework/Resources/bin/R CMD build --keep-empty-dirs --no-resave-data seqCNA StartedAt: 2024-04-17 02:36:08 -0400 (Wed, 17 Apr 2024) EndedAt: 2024-04-17 02:36:45 -0400 (Wed, 17 Apr 2024) EllapsedTime: 37.0 seconds RetCode: 0 Status: OK PackageFile: seqCNA_1.48.0.tar.gz PackageFileSize: 1.253 MiB