Package: seqCNA Version: 1.48.0 Command: rm -rf seqCNA.buildbin-libdir && mkdir seqCNA.buildbin-libdir && /Users/biocbuild/BBS/utils/build-universal.sh seqCNA_1.48.0.tar.gz /Library/Frameworks/R.framework/Resources/bin/R seqCNA.buildbin-libdir StartedAt: 2024-04-18 11:15:39 -0400 (Thu, 18 Apr 2024) EndedAt: 2024-04-18 11:15:52 -0400 (Thu, 18 Apr 2024) EllapsedTime: 13.4 seconds RetCode: 0 Status: OK PackageFile: seqCNA_1.48.0.tgz PackageFileSize: 1.364 MiB