Package: screenCounter Version: 1.2.0 Command: /Library/Frameworks/R.framework/Resources/bin/R CMD check --install=check:screenCounter.install-out.txt --library=/Library/Frameworks/R.framework/Resources/library --no-vignettes --timings screenCounter_1.2.0.tar.gz StartedAt: 2024-04-18 03:11:45 -0400 (Thu, 18 Apr 2024) EndedAt: 2024-04-18 03:15:08 -0400 (Thu, 18 Apr 2024) EllapsedTime: 203.3 seconds RetCode: 0 Status: OK CheckDir: screenCounter.Rcheck Warnings: 0