Package: screenCounter Version: 1.2.0 Command: rm -rf screenCounter.buildbin-libdir && mkdir screenCounter.buildbin-libdir && /Users/biocbuild/BBS/utils/build-universal.sh screenCounter_1.2.0.tar.gz /Library/Frameworks/R.framework/Resources/bin/R screenCounter.buildbin-libdir StartedAt: 2024-04-18 11:12:09 -0400 (Thu, 18 Apr 2024) EndedAt: 2024-04-18 11:14:09 -0400 (Thu, 18 Apr 2024) EllapsedTime: 120.0 seconds RetCode: 0 Status: OK PackageFile: screenCounter_1.2.0.tgz PackageFileSize: 524.2 KiB