Package: scmap Version: 1.24.0 Command: /Library/Frameworks/R.framework/Resources/bin/R CMD INSTALL scmap StartedAt: 2024-04-16 10:28:00 -0400 (Tue, 16 Apr 2024) EndedAt: 2024-04-16 10:28:50 -0400 (Tue, 16 Apr 2024) EllapsedTime: 49.3 seconds RetCode: 0 Status: OK