Package: scifer Version: 1.4.0 Command: rm -rf scifer.buildbin-libdir && mkdir scifer.buildbin-libdir && /Users/biocbuild/BBS/utils/build-universal.sh scifer_1.4.0.tar.gz /Library/Frameworks/R.framework/Resources/bin/R scifer.buildbin-libdir StartedAt: 2024-04-18 11:09:55 -0400 (Thu, 18 Apr 2024) EndedAt: 2024-04-18 11:10:21 -0400 (Thu, 18 Apr 2024) EllapsedTime: 26.4 seconds RetCode: 0 Status: OK PackageFile: scifer_1.4.0.tgz PackageFileSize: 2.27 MiB