Package: sccomp Version: 1.6.0 Command: /Library/Frameworks/R.framework/Resources/bin/R CMD check --install=check:sccomp.install-out.txt --library=/Library/Frameworks/R.framework/Resources/library --no-vignettes --timings sccomp_1.6.0.tar.gz StartedAt: 2024-04-18 02:44:01 -0400 (Thu, 18 Apr 2024) EndedAt: 2024-04-18 02:57:08 -0400 (Thu, 18 Apr 2024) EllapsedTime: 786.8 seconds RetCode: 0 Status: OK CheckDir: sccomp.Rcheck Warnings: 0