Package: scatterHatch Version: 1.8.0 Command: /Library/Frameworks/R.framework/Resources/bin/R CMD check --install=check:scatterHatch.install-out.txt --library=/Library/Frameworks/R.framework/Resources/library --no-vignettes --timings scatterHatch_1.8.0.tar.gz StartedAt: 2024-04-18 02:38:00 -0400 (Thu, 18 Apr 2024) EndedAt: 2024-04-18 02:39:55 -0400 (Thu, 18 Apr 2024) EllapsedTime: 114.8 seconds RetCode: 0 Status: OK CheckDir: scatterHatch.Rcheck Warnings: 0