Package: scatterHatch Version: 1.8.0 Command: /Library/Frameworks/R.framework/Resources/bin/R CMD build --keep-empty-dirs --no-resave-data scatterHatch StartedAt: 2024-04-17 01:46:07 -0400 (Wed, 17 Apr 2024) EndedAt: 2024-04-17 01:47:05 -0400 (Wed, 17 Apr 2024) EllapsedTime: 58.2 seconds RetCode: 0 Status: OK PackageFile: scatterHatch_1.8.0.tar.gz PackageFileSize: 4.245 MiB