Package: scater Version: 1.30.1 Command: rm -rf scater.buildbin-libdir && mkdir scater.buildbin-libdir && /Users/biocbuild/BBS/utils/build-universal.sh scater_1.30.1.tar.gz /Library/Frameworks/R.framework/Resources/bin/R scater.buildbin-libdir StartedAt: 2024-03-07 10:24:59 -0500 (Thu, 07 Mar 2024) EndedAt: 2024-03-07 10:25:45 -0500 (Thu, 07 Mar 2024) EllapsedTime: 46.3 seconds RetCode: 0 Status: OK PackageFile: scater_1.30.1.tgz PackageFileSize: 4.245 MiB