Package: scanMiR Version: 1.8.2 Command: rm -rf scanMiR.buildbin-libdir && mkdir scanMiR.buildbin-libdir && /Users/biocbuild/BBS/utils/build-universal.sh scanMiR_1.8.2.tar.gz /Library/Frameworks/R.framework/Resources/bin/R scanMiR.buildbin-libdir StartedAt: 2024-04-18 11:06:48 -0400 (Thu, 18 Apr 2024) EndedAt: 2024-04-18 11:07:13 -0400 (Thu, 18 Apr 2024) EllapsedTime: 25.0 seconds RetCode: 0 Status: OK PackageFile: scanMiR_1.8.2.tgz PackageFileSize: 1.302 MiB