Package: scTreeViz Version: 1.8.0 Command: /Library/Frameworks/R.framework/Resources/bin/R CMD check --install=check:scTreeViz.install-out.txt --library=/Library/Frameworks/R.framework/Resources/library --no-vignettes --timings scTreeViz_1.8.0.tar.gz StartedAt: 2024-04-18 03:22:03 -0400 (Thu, 18 Apr 2024) EndedAt: 2024-04-18 03:32:04 -0400 (Thu, 18 Apr 2024) EllapsedTime: 601.2 seconds RetCode: 0 Status: OK CheckDir: scTreeViz.Rcheck Warnings: 0